BEGIN:VCALENDAR
VERSION:2.0
PRODID:-//ChamberMaster//Event Calendar 2.0//EN
METHOD:PUBLISH
X-PUBLISHED-TTL:P3D
REFRESH-INTERVAL:P3D
CALSCALE:GREGORIAN
BEGIN:VEVENT
DTSTART:20231105T163000Z
DTEND:20231105T180000Z
X-MICROSOFT-CDO-ALLDAYEVENT:FALSE
SUMMARY:CONY Board of Directors Meeting - November 2023 #2
DESCRIPTION:CONY Board of Directors Meeting.\n\nIn person meeting.\n\nTurning Stone Resort\, Verona\, NY\n\n11:30am-1:00pm (tentative times\, subject to change).\n\nOrientation meeting for new board after annual membership meeting and elections.
X-ALT-DESC;FMTTYPE=text/html:CONY Board of Directors Meeting.<br />\nIn person meeting.<br />\nTurning Stone Resort\, Verona\, NY<br />\n11:30am-1:00pm (tentative times\, subject to change).<br />\nOrientation meeting for new board after annual membership meeting and elections.<br />\n&nbsp\;
LOCATION:Turning Stone Resort\, Verona\, NY
UID:e.9193.255
SEQUENCE:3
DTSTAMP:20260420T101957Z
URL:https://members.campnewyork.com/events/details/cony-board-of-directors-meeting-november-2023-2-255
END:VEVENT

END:VCALENDAR
